BEGIN:VCALENDAR
VERSION:2.0
PRODID:-//Squarespace Inc/Squarespace 6//v6//EN
BEGIN:VEVENT
UID:5fd6cb6a0f11661d4c3c0f11@squarespace.com
DTSTAMP:20201215T034857Z
DTSTART:20201220T013000Z
DTEND:20201220T063000Z
SUMMARY:Bizzarro x Melt / West / SeaSalt
END:VEVENT
END:VCALENDAR
