BEGIN:VCALENDAR
VERSION:2.0
PRODID:-//Squarespace Inc/Squarespace 6//v6//EN
BEGIN:VEVENT
UID:5f3ca375fab5136c596a0969@squarespace.com
DTSTAMP:20200826T032934Z
DTSTART:20200913T023000Z
DTEND:20200913T073000Z
SUMMARY:Cellar Door by the Sea Ft. Dandelion Vineyards
GEO:-34.918658;138.493703
LOCATION:Melt Henley\, 269 Seaview Road\, Henley Beach\, SA\, 5022\, Austra
 lia
END:VEVENT
END:VCALENDAR
